BEGIN:VCALENDAR
VERSION:2.0
PRODID:-//ZPC de Zeeuwsekust - ECPv6.15.17.1//NONSGML v1.0//EN
CALSCALE:GREGORIAN
METHOD:PUBLISH
X-ORIGINAL-URL:https://zpc-dzk.nl
X-WR-CALDESC:Evenementen voor ZPC de Zeeuwsekust
REFRESH-INTERVAL;VALUE=DURATION:PT1H
X-Robots-Tag:noindex
X-PUBLISHED-TTL:PT1H
BEGIN:VTIMEZONE
TZID:Europe/Amsterdam
BEGIN:DAYLIGHT
TZOFFSETFROM:+0100
TZOFFSETTO:+0200
TZNAME:CEST
DTSTART:20230326T010000
END:DAYLIGHT
BEGIN:STANDARD
TZOFFSETFROM:+0200
TZOFFSETTO:+0100
TZNAME:CET
DTSTART:20231029T010000
END:STANDARD
BEGIN:DAYLIGHT
TZOFFSETFROM:+0100
TZOFFSETTO:+0200
TZNAME:CEST
DTSTART:20240331T010000
END:DAYLIGHT
BEGIN:STANDARD
TZOFFSETFROM:+0200
TZOFFSETTO:+0100
TZNAME:CET
DTSTART:20241027T010000
END:STANDARD
BEGIN:DAYLIGHT
TZOFFSETFROM:+0100
TZOFFSETTO:+0200
TZNAME:CEST
DTSTART:20250330T010000
END:DAYLIGHT
BEGIN:STANDARD
TZOFFSETFROM:+0200
TZOFFSETTO:+0100
TZNAME:CET
DTSTART:20251026T010000
END:STANDARD
END:VTIMEZONE
BEGIN:VEVENT
DTSTART;TZID=Europe/Amsterdam:20240510T190000
DTEND;TZID=Europe/Amsterdam:20240510T233000
DTSTAMP:20260421T121033
CREATED:20240427T091525Z
LAST-MODIFIED:20240427T091919Z
UID:5801-1715367600-1715383800@zpc-dzk.nl
SUMMARY:DZK Feest
DESCRIPTION:Inschrijven via volgend formulier\, uiterlijk 28 mei: DZK Zomercarnaval Eindfeest – 10 mei 2024 \nEindfeest DZK waterpolo 2024
URL:https://zpc-dzk.nl/kalender/dzk-feest/
CATEGORIES:Evenementen
END:VEVENT
END:VCALENDAR