BEGIN:VCALENDAR
VERSION:2.0
PRODID:-//ZPC de Zeeuwsekust - ECPv6.15.17.1//NONSGML v1.0//EN
CALSCALE:GREGORIAN
METHOD:PUBLISH
X-WR-CALNAME:ZPC de Zeeuwsekust
X-ORIGINAL-URL:https://zpc-dzk.nl
X-WR-CALDESC:Evenementen voor ZPC de Zeeuwsekust
REFRESH-INTERVAL;VALUE=DURATION:PT1H
X-Robots-Tag:noindex
X-PUBLISHED-TTL:PT1H
BEGIN:VTIMEZONE
TZID:Europe/Amsterdam
BEGIN:DAYLIGHT
TZOFFSETFROM:+0100
TZOFFSETTO:+0200
TZNAME:CEST
DTSTART:20230326T010000
END:DAYLIGHT
BEGIN:STANDARD
TZOFFSETFROM:+0200
TZOFFSETTO:+0100
TZNAME:CET
DTSTART:20231029T010000
END:STANDARD
BEGIN:DAYLIGHT
TZOFFSETFROM:+0100
TZOFFSETTO:+0200
TZNAME:CEST
DTSTART:20240331T010000
END:DAYLIGHT
BEGIN:STANDARD
TZOFFSETFROM:+0200
TZOFFSETTO:+0100
TZNAME:CET
DTSTART:20241027T010000
END:STANDARD
BEGIN:DAYLIGHT
TZOFFSETFROM:+0100
TZOFFSETTO:+0200
TZNAME:CEST
DTSTART:20250330T010000
END:DAYLIGHT
BEGIN:STANDARD
TZOFFSETFROM:+0200
TZOFFSETTO:+0100
TZNAME:CET
DTSTART:20251026T010000
END:STANDARD
END:VTIMEZONE
BEGIN:VEVENT
DTSTART;TZID=Europe/Amsterdam:20240601T080000
DTEND;TZID=Europe/Amsterdam:20240602T170000
DTSTAMP:20260421T120850
CREATED:20240427T104157Z
LAST-MODIFIED:20240427T104157Z
UID:5814-1717228800-1717347600@zpc-dzk.nl
SUMMARY:Regionale Zomerkampioenschappen Brabant en Limburg
DESCRIPTION:Zeeland mag BM meezwemmen bij de Regionale Zwemkampioenschappen van Brabant en Limburg. \nZo kun je nog limieten zwemmen. er zijn voor Zeeland geen medailles omdat wij op 11 en 12 mei onze ZZZK al hebben. \nInschrijven kan tot 12 mei via Inschrijvingen en cc naar de betreffende coördinator. \n2024.05.25 Bepalingen Regionale Zomerkampioenschappen 2024 def \nVoor deze wedstrijd gelden limieten: 2024.05.25 RZK limieten 2024 (2)
URL:https://zpc-dzk.nl/kalender/regionale-zomerkampioenschappen-brabant-en-limburg-2/
LOCATION:Pieter vd Hoogenbandbad Zwemstadion\, Antoon Coolenlaan 1\, Eindhoven\, Nederland
CATEGORIES:Zwemwedstrijden
END:VEVENT
END:VCALENDAR