BEGIN:VCALENDAR
VERSION:2.0
PRODID:-//ZPC de Zeeuwsekust - ECPv6.15.17.1//NONSGML v1.0//EN
CALSCALE:GREGORIAN
METHOD:PUBLISH
X-WR-CALNAME:ZPC de Zeeuwsekust
X-ORIGINAL-URL:https://zpc-dzk.nl
X-WR-CALDESC:Evenementen voor ZPC de Zeeuwsekust
REFRESH-INTERVAL;VALUE=DURATION:PT1H
X-Robots-Tag:noindex
X-PUBLISHED-TTL:PT1H
BEGIN:VTIMEZONE
TZID:Europe/Amsterdam
BEGIN:DAYLIGHT
TZOFFSETFROM:+0100
TZOFFSETTO:+0200
TZNAME:CEST
DTSTART:20230326T010000
END:DAYLIGHT
BEGIN:STANDARD
TZOFFSETFROM:+0200
TZOFFSETTO:+0100
TZNAME:CET
DTSTART:20231029T010000
END:STANDARD
BEGIN:DAYLIGHT
TZOFFSETFROM:+0100
TZOFFSETTO:+0200
TZNAME:CEST
DTSTART:20240331T010000
END:DAYLIGHT
BEGIN:STANDARD
TZOFFSETFROM:+0200
TZOFFSETTO:+0100
TZNAME:CET
DTSTART:20241027T010000
END:STANDARD
BEGIN:DAYLIGHT
TZOFFSETFROM:+0100
TZOFFSETTO:+0200
TZNAME:CEST
DTSTART:20250330T010000
END:DAYLIGHT
BEGIN:STANDARD
TZOFFSETFROM:+0200
TZOFFSETTO:+0100
TZNAME:CET
DTSTART:20251026T010000
END:STANDARD
END:VTIMEZONE
BEGIN:VEVENT
DTSTART;TZID=Europe/Amsterdam:20240629T080000
DTEND;TZID=Europe/Amsterdam:20240629T170000
DTSTAMP:20260421T133456
CREATED:20240527T100042Z
LAST-MODIFIED:20240527T100042Z
UID:6004-1719648000-1719680400@zpc-dzk.nl
SUMMARY:Openwater: Flanders Open Water Cup\, Vlaamse Kampioenschappen (België)
DESCRIPTION:Kijk voor het programma in de openwater brochure (bladzijde 21) \now2024brochure \nOpgeven via: openwater@zpc-dzk.nl en CC naar betreffende coördinator. (funzwem@zpc-dzk.nl/traintechniek@zpc-dzk.nl/a-groep@zpc-dzk.nl/b-groep@zpc-dzk.nl)\nVermeld hierbij:\nUiterlijk 13 juni 2024 20:00\n– Gewenst programma\n– Eigen chips ja/nee\n– Eigen badmuts ja/nee (ja\, kleur en nummer) ! Let op in België kan er niet met Nederlandse caps gezwommen worden \n€ 8.00 per afstand
URL:https://zpc-dzk.nl/kalender/openwater-flanders-open-water-cup-vlaamse-kampioenschappen-belgie/
CATEGORIES:Zwemwedstrijden
END:VEVENT
BEGIN:VEVENT
DTSTART;TZID=Europe/Amsterdam:20240629T080000
DTEND;TZID=Europe/Amsterdam:20240630T170000
DTSTAMP:20260421T133456
CREATED:20240427T085403Z
LAST-MODIFIED:20240427T085403Z
UID:5789-1719648000-1719766800@zpc-dzk.nl
SUMMARY:NK Sprint Rotterdam
DESCRIPTION:20240305-NK-Sprint-2024-Bepalingen \n20240305-NK-Sprint-2024-Limieten
URL:https://zpc-dzk.nl/kalender/nk-sprint-rotterdam/
LOCATION:Zwemcentrum Rotterdam\, Annie M.G. Schmidtplein 8\, Rotterdam\, 3083 NZ\, Nederland
CATEGORIES:Zwemwedstrijden
END:VEVENT
END:VCALENDAR