BEGIN:VCALENDAR
VERSION:2.0
PRODID:-//ZPC de Zeeuwsekust - ECPv6.15.17.1//NONSGML v1.0//EN
CALSCALE:GREGORIAN
METHOD:PUBLISH
X-WR-CALNAME:ZPC de Zeeuwsekust
X-ORIGINAL-URL:https://zpc-dzk.nl
X-WR-CALDESC:Evenementen voor ZPC de Zeeuwsekust
REFRESH-INTERVAL;VALUE=DURATION:PT1H
X-Robots-Tag:noindex
X-PUBLISHED-TTL:PT1H
BEGIN:VTIMEZONE
TZID:Europe/Amsterdam
BEGIN:DAYLIGHT
TZOFFSETFROM:+0100
TZOFFSETTO:+0200
TZNAME:CEST
DTSTART:20230326T010000
END:DAYLIGHT
BEGIN:STANDARD
TZOFFSETFROM:+0200
TZOFFSETTO:+0100
TZNAME:CET
DTSTART:20231029T010000
END:STANDARD
BEGIN:DAYLIGHT
TZOFFSETFROM:+0100
TZOFFSETTO:+0200
TZNAME:CEST
DTSTART:20240331T010000
END:DAYLIGHT
BEGIN:STANDARD
TZOFFSETFROM:+0200
TZOFFSETTO:+0100
TZNAME:CET
DTSTART:20241027T010000
END:STANDARD
BEGIN:DAYLIGHT
TZOFFSETFROM:+0100
TZOFFSETTO:+0200
TZNAME:CEST
DTSTART:20250330T010000
END:DAYLIGHT
BEGIN:STANDARD
TZOFFSETFROM:+0200
TZOFFSETTO:+0100
TZNAME:CET
DTSTART:20251026T010000
END:STANDARD
END:VTIMEZONE
BEGIN:VEVENT
DTSTART;TZID=Europe/Amsterdam:20240706T080000
DTEND;TZID=Europe/Amsterdam:20240706T170000
DTSTAMP:20260421T165850
CREATED:20240509T100008Z
LAST-MODIFIED:20240606T090624Z
UID:5882-1720252800-1720285200@zpc-dzk.nl
SUMMARY:Openwater: Hoek ONK (Braakmankreekrace)
DESCRIPTION:Kijk voor het programma in de openwater brochure (bladzijde 27)\now2024brochure \nVoor de ONK nummers zijn er aparte bepalingen. 2024-07-Programma-en-bepalingen-ONK-OWZ-2024-2 \nOpgeven via: openwater@zpc-dzk.nl en CC naar betreffende coördinator (funzwem@zpc-dzk.nl/traintechniek@zpc-dzk.nl/a-groep@zpc-dzk.nl/b-groep@zpc-dzk.nl)\nuiterlijk 27 juni 2024 20:00\nVermeld hierbij:\n– Gewenst programma\n– Eigen chips ja/nee\n– Eigen badmuts ja/nee (ja\, kleur en nummer)\n– Voor ONK afstanden; via welke voorwaarde je gekwalificeerd bent. \nDeze wedstrijd telt mee voor de Zeelandbeker. \n€ 22.50 ONK afstand individueel\n€ 33.75 ONK teamevent\n€ 3.00 Leencap\n€3\,50 ETW\n€ 9.00 1e start\n€ 6.00 Volgende starts\n€ 5.00 Prestatietocht
URL:https://zpc-dzk.nl/kalender/openwater-hoek-braakmankreekrace/
LOCATION:Hoek
CATEGORIES:Zwemwedstrijden
END:VEVENT
BEGIN:VEVENT
DTSTART;TZID=Europe/Amsterdam:20240706T080000
DTEND;TZID=Europe/Amsterdam:20240707T170000
DTSTAMP:20260421T165850
CREATED:20240604T124802Z
LAST-MODIFIED:20240619T070137Z
UID:6024-1720252800-1720371600@zpc-dzk.nl
SUMMARY:Speedo Fast Water Meet
DESCRIPTION:
URL:https://zpc-dzk.nl/kalender/speedo-fast-water-meet/
LOCATION:Amsterdam\, Langbroekpad 2\, Amsterdam\, Noord-Holland\, 1108 EA\, Nederland
CATEGORIES:Zwemwedstrijden
END:VEVENT
END:VCALENDAR